BEGIN:VCALENDAR
VERSION:2.0
PRODID:-//Date iCal//NONSGML kigkonsult.se iCalcreator 2.20.2//
METHOD:PUBLISH
X-WR-CALNAME;VALUE=TEXT:LTCO Tax calendar
BEGIN:VTIMEZONE
TZID:Europe/Paris
BEGIN:STANDARD
DTSTART:20181028T030000
TZOFFSETFROM:+0200
TZOFFSETTO:+0100
TZNAME:CET
END:STANDARD
BEGIN:DAYLIGHT
DTSTART:20180325T020000
TZOFFSETFROM:+0100
TZOFFSETTO:+0200
RDATE:20190331T020000
TZNAME:CEST
END:DAYLIGHT
END:VTIMEZONE
BEGIN:VEVENT
UID:calendar.125.field_event_date.0@www.ltco.lu
DTSTAMP:20180623T035204Z
CREATED:20171201T105812Z
DESCRIPTION:Reporting due date
DTSTART;TZID=Europe/Paris:20180625T000000
DTEND;TZID=Europe/Paris:20180625T000000
LAST-MODIFIED:20171201T105812Z
SUMMARY:ESL online filing
URL;TYPE=URI:https://www.ltco.lu/content/esl-online-filing-16
END:VEVENT
BEGIN:VEVENT
UID:calendar.126.field_event_date.0@www.ltco.lu
DTSTAMP:20180623T035204Z
CREATED:20171201T110009Z
DESCRIPTION:Reporting + Payment due date
DTSTART;TZID=Europe/Paris:20180715T000000
DTEND;TZID=Europe/Paris:20180715T000000
LAST-MODIFIED:20171201T110009Z
SUMMARY:VAT reporting & payment and ESL paper filing
URL;TYPE=URI:https://www.ltco.lu/content/vat-reporting-payment-and-esl-pape
 r-filing-17
END:VEVENT
BEGIN:VEVENT
UID:calendar.127.field_event_date.0@www.ltco.lu
DTSTAMP:20180623T035204Z
CREATED:20171201T110046Z
DESCRIPTION:Reporting due date
DTSTART;TZID=Europe/Paris:20180716T000000
DTEND;TZID=Europe/Paris:20180716T000000
LAST-MODIFIED:20171201T110046Z
SUMMARY:Intrastat reporting
URL;TYPE=URI:https://www.ltco.lu/content/intrastat-reporting-19
END:VEVENT
BEGIN:VEVENT
UID:calendar.128.field_event_date.0@www.ltco.lu
DTSTAMP:20180623T035204Z
CREATED:20171201T110133Z
DESCRIPTION:Reporting due date
DTSTART;TZID=Europe/Paris:20180725T000000
DTEND;TZID=Europe/Paris:20180725T000000
LAST-MODIFIED:20171201T110133Z
SUMMARY:ESL online filing
URL;TYPE=URI:https://www.ltco.lu/content/esl-online-filing-17
END:VEVENT
BEGIN:VEVENT
UID:calendar.129.field_event_date.0@www.ltco.lu
DTSTAMP:20180623T035204Z
CREATED:20171201T110300Z
DESCRIPTION:Tax Advances
DTSTART;TZID=Europe/Paris:20180810T000000
DTEND;TZID=Europe/Paris:20180810T000000
LAST-MODIFIED:20171201T110300Z
SUMMARY:MBT & NWT advances
URL;TYPE=URI:https://www.ltco.lu/content/mbt-nwt-advances-5
END:VEVENT
BEGIN:VEVENT
UID:calendar.130.field_event_date.0@www.ltco.lu
DTSTAMP:20180623T035204Z
CREATED:20171201T110334Z
DESCRIPTION:Reporting + Payment due date
DTSTART;TZID=Europe/Paris:20180815T000000
DTEND;TZID=Europe/Paris:20180815T000000
LAST-MODIFIED:20171201T110334Z
SUMMARY:VAT reporting & payment and ESL paper filing
URL;TYPE=URI:https://www.ltco.lu/content/vat-reporting-payment-and-esl-pape
 r-filing-18
END:VEVENT
BEGIN:VEVENT
UID:calendar.131.field_event_date.0@www.ltco.lu
DTSTAMP:20180623T035204Z
CREATED:20171201T110457Z
DESCRIPTION:Reporting due date
DTSTART;TZID=Europe/Paris:20180816T000000
DTEND;TZID=Europe/Paris:20180816T000000
LAST-MODIFIED:20171201T110457Z
SUMMARY:Intrastat reporting
URL;TYPE=URI:https://www.ltco.lu/content/intrastat-reporting-20
END:VEVENT
BEGIN:VEVENT
UID:calendar.132.field_event_date.0@www.ltco.lu
DTSTAMP:20180623T035204Z
CREATED:20171201T110538Z
DESCRIPTION:Reporting due date
DTSTART;TZID=Europe/Paris:20180825T000000
DTEND;TZID=Europe/Paris:20180825T000000
LAST-MODIFIED:20171201T110538Z
SUMMARY:ESL online filing
URL;TYPE=URI:https://www.ltco.lu/content/esl-online-filing-18
END:VEVENT
BEGIN:VEVENT
UID:calendar.133.field_event_date.0@www.ltco.lu
DTSTAMP:20180623T035204Z
CREATED:20171201T110651Z
DESCRIPTION:Tax Advances
DTSTART;TZID=Europe/Paris:20180910T000000
DTEND;TZID=Europe/Paris:20180910T000000
LAST-MODIFIED:20171201T110651Z
SUMMARY:CIT advances
URL;TYPE=URI:https://www.ltco.lu/content/cit-advances-5
END:VEVENT
BEGIN:VEVENT
UID:calendar.134.field_event_date.0@www.ltco.lu
DTSTAMP:20180623T035204Z
CREATED:20171201T110732Z
DESCRIPTION:Reporting + Payment due date
DTSTART;TZID=Europe/Paris:20180915T000000
DTEND;TZID=Europe/Paris:20180915T000000
LAST-MODIFIED:20171201T110732Z
SUMMARY:VAT reporting & payment and ESL paper filing
URL;TYPE=URI:https://www.ltco.lu/content/vat-reporting-payment-and-esl-pape
 r-filing-19
END:VEVENT
BEGIN:VEVENT
UID:calendar.135.field_event_date.0@www.ltco.lu
DTSTAMP:20180623T035204Z
CREATED:20171201T110833Z
DESCRIPTION:Reporting due date
DTSTART;TZID=Europe/Paris:20180916T000000
DTEND;TZID=Europe/Paris:20180916T000000
LAST-MODIFIED:20171201T110833Z
SUMMARY:Intrastat reporting
URL;TYPE=URI:https://www.ltco.lu/content/intrastat-reporting-21
END:VEVENT
BEGIN:VEVENT
UID:calendar.136.field_event_date.0@www.ltco.lu
DTSTAMP:20180623T035204Z
CREATED:20171201T110906Z
DESCRIPTION:Reporting due date
DTSTART;TZID=Europe/Paris:20180925T000000
DTEND;TZID=Europe/Paris:20180925T000000
LAST-MODIFIED:20171201T110906Z
SUMMARY:ESL online filing
URL;TYPE=URI:https://www.ltco.lu/content/esl-online-filing-19
END:VEVENT
BEGIN:VEVENT
UID:calendar.137.field_event_date.0@www.ltco.lu
DTSTAMP:20180623T035204Z
CREATED:20171201T111024Z
DESCRIPTION:Reporting + Payment due date
DTSTART;TZID=Europe/Paris:20181015T000000
DTEND;TZID=Europe/Paris:20181015T000000
LAST-MODIFIED:20171201T111024Z
SUMMARY:VAT reporting & payment and ESL paper filing
URL;TYPE=URI:https://www.ltco.lu/content/vat-reporting-payment-and-esl-pape
 r-filing-20
END:VEVENT
BEGIN:VEVENT
UID:calendar.138.field_event_date.0@www.ltco.lu
DTSTAMP:20180623T035204Z
CREATED:20171201T111057Z
DESCRIPTION:Reporting due date
DTSTART;TZID=Europe/Paris:20181016T000000
DTEND;TZID=Europe/Paris:20181016T000000
LAST-MODIFIED:20171201T111057Z
SUMMARY:Intrastat reporting
URL;TYPE=URI:https://www.ltco.lu/content/intrastat-reporting-22
END:VEVENT
BEGIN:VEVENT
UID:calendar.139.field_event_date.0@www.ltco.lu
DTSTAMP:20180623T035204Z
CREATED:20171201T111158Z
DESCRIPTION:Reporting due date
DTSTART;TZID=Europe/Paris:20181025T000000
DTEND;TZID=Europe/Paris:20181025T000000
LAST-MODIFIED:20171201T111158Z
SUMMARY:ESL online filing
URL;TYPE=URI:https://www.ltco.lu/content/esl-online-filing-20
END:VEVENT
BEGIN:VEVENT
UID:calendar.140.field_event_date.0@www.ltco.lu
DTSTAMP:20180623T035204Z
CREATED:20171201T111236Z
DESCRIPTION:Reporting + Payment due date
DTSTART;TZID=Europe/Paris:20181031T000000
DTEND;TZID=Europe/Paris:20181031T000000
LAST-MODIFIED:20171201T111236Z
SUMMARY:Annual VAT reporting and payment if single or simplified annual ret
 urn - final deadline
URL;TYPE=URI:https://www.ltco.lu/content/annual-vat-reporting-and-payment-i
 f-single-or-simplified-annual-return-final-deadline-0
END:VEVENT
BEGIN:VEVENT
UID:calendar.141.field_event_date.0@www.ltco.lu
DTSTAMP:20180623T035204Z
CREATED:20171201T111350Z
DESCRIPTION:Tax Advances
DTSTART;TZID=Europe/Paris:20181110T000000
DTEND;TZID=Europe/Paris:20181110T000000
LAST-MODIFIED:20171201T111350Z
SUMMARY:MBT & NWT advances
URL;TYPE=URI:https://www.ltco.lu/content/mbt-nwt-advances-6
END:VEVENT
BEGIN:VEVENT
UID:calendar.142.field_event_date.0@www.ltco.lu
DTSTAMP:20180623T035204Z
CREATED:20171201T111735Z
DESCRIPTION:Reporting + Payment due date
DTSTART;TZID=Europe/Paris:20181115T000000
DTEND;TZID=Europe/Paris:20181115T000000
LAST-MODIFIED:20171201T111735Z
SUMMARY:VAT reporting & payment and ESL paper filing
URL;TYPE=URI:https://www.ltco.lu/content/vat-reporting-payment-and-esl-pape
 r-filing-21
END:VEVENT
BEGIN:VEVENT
UID:calendar.143.field_event_date.0@www.ltco.lu
DTSTAMP:20180623T035204Z
CREATED:20171201T111804Z
DESCRIPTION:Reporting due date
DTSTART;TZID=Europe/Paris:20181116T000000
DTEND;TZID=Europe/Paris:20181116T000000
LAST-MODIFIED:20171201T111804Z
SUMMARY:Intrastat reporting
URL;TYPE=URI:https://www.ltco.lu/content/intrastat-reporting-23
END:VEVENT
BEGIN:VEVENT
UID:calendar.144.field_event_date.0@www.ltco.lu
DTSTAMP:20180623T035204Z
CREATED:20171201T111849Z
DESCRIPTION:Reporting due date
DTSTART;TZID=Europe/Paris:20181125T000000
DTEND;TZID=Europe/Paris:20181125T000000
LAST-MODIFIED:20171201T111849Z
SUMMARY:ESL online filing
URL;TYPE=URI:https://www.ltco.lu/content/esl-online-filing-21
END:VEVENT
BEGIN:VEVENT
UID:calendar.145.field_event_date.0@www.ltco.lu
DTSTAMP:20180623T035204Z
CREATED:20171201T111939Z
DESCRIPTION:Tax Advances
DTSTART;TZID=Europe/Paris:20181210T000000
DTEND;TZID=Europe/Paris:20181210T000000
LAST-MODIFIED:20171201T111939Z
SUMMARY:CIT advances
URL;TYPE=URI:https://www.ltco.lu/content/cit-advances-6
END:VEVENT
BEGIN:VEVENT
UID:calendar.146.field_event_date.0@www.ltco.lu
DTSTAMP:20180623T035204Z
CREATED:20171201T112012Z
DESCRIPTION:Reporting + Payment due date
DTSTART;TZID=Europe/Paris:20181215T000000
DTEND;TZID=Europe/Paris:20181215T000000
LAST-MODIFIED:20171201T112012Z
SUMMARY:VAT reporting & payment and ESL paper filing
URL;TYPE=URI:https://www.ltco.lu/content/vat-reporting-payment-and-esl-pape
 r-filing-22
END:VEVENT
BEGIN:VEVENT
UID:calendar.147.field_event_date.0@www.ltco.lu
DTSTAMP:20180623T035204Z
CREATED:20171201T112128Z
DESCRIPTION:Reporting due date
DTSTART;TZID=Europe/Paris:20181216T000000
DTEND;TZID=Europe/Paris:20181216T000000
LAST-MODIFIED:20171201T112128Z
SUMMARY:Intrastat reporting
URL;TYPE=URI:https://www.ltco.lu/content/intrastat-reporting-24
END:VEVENT
BEGIN:VEVENT
UID:calendar.148.field_event_date.0@www.ltco.lu
DTSTAMP:20180623T035204Z
CREATED:20171201T112715Z
DESCRIPTION:Reporting due date
DTSTART;TZID=Europe/Paris:20181225T000000
DTEND;TZID=Europe/Paris:20181225T000000
LAST-MODIFIED:20171201T112715Z
SUMMARY:ESL online filing
URL;TYPE=URI:https://www.ltco.lu/content/esl-online-filing-22
END:VEVENT
BEGIN:VEVENT
UID:calendar.149.field_event_date.0@www.ltco.lu
DTSTAMP:20180623T035204Z
CREATED:20171201T112818Z
DESCRIPTION:Reporting + Payment due date
DTSTART;TZID=Europe/Paris:20181231T000000
DTEND;TZID=Europe/Paris:20181231T000000
LAST-MODIFIED:20171201T112818Z
SUMMARY:Recapitulative annual VAT reporting and payment - final deadline
URL;TYPE=URI:https://www.ltco.lu/content/recapitulative-annual-vat-reportin
 g-and-payment-final-deadline-0
END:VEVENT
END:VCALENDAR
